BEGIN:VCALENDAR
VERSION:2.0
PRODID:-//CCFR Community - ECPv6.15.20//NONSGML v1.0//EN
CALSCALE:GREGORIAN
METHOD:PUBLISH
X-ORIGINAL-URL:https://ccfrcommunity.com
X-WR-CALDESC:Events for CCFR Community
REFRESH-INTERVAL;VALUE=DURATION:PT1H
X-Robots-Tag:noindex
X-PUBLISHED-TTL:PT1H
BEGIN:VTIMEZONE
TZID:America/Chicago
BEGIN:DAYLIGHT
TZOFFSETFROM:-0600
TZOFFSETTO:-0500
TZNAME:CDT
DTSTART:20250309T080000
END:DAYLIGHT
BEGIN:STANDARD
TZOFFSETFROM:-0500
TZOFFSETTO:-0600
TZNAME:CST
DTSTART:20251102T070000
END:STANDARD
BEGIN:DAYLIGHT
TZOFFSETFROM:-0600
TZOFFSETTO:-0500
TZNAME:CDT
DTSTART:20260308T080000
END:DAYLIGHT
BEGIN:STANDARD
TZOFFSETFROM:-0500
TZOFFSETTO:-0600
TZNAME:CST
DTSTART:20261101T070000
END:STANDARD
BEGIN:DAYLIGHT
TZOFFSETFROM:-0600
TZOFFSETTO:-0500
TZNAME:CDT
DTSTART:20270314T080000
END:DAYLIGHT
BEGIN:STANDARD
TZOFFSETFROM:-0500
TZOFFSETTO:-0600
TZNAME:CST
DTSTART:20271107T070000
END:STANDARD
END:VTIMEZONE
BEGIN:VEVENT
DTSTART;TZID=America/Chicago:20260613T090000
DTEND;TZID=America/Chicago:20260613T160000
DTSTAMP:20260423T053239
CREATED:20250505T225600Z
LAST-MODIFIED:20260311T143201Z
UID:995-1781341200-1781366400@ccfrcommunity.com
SUMMARY:Mud Volleyball
DESCRIPTION:We have the pleasure to work with (DASA)\, the Disabled Athlete Sports Association volunteering at their larger competitions like the Gateway Games and on a weekly basis hosting their Boccia team at our Station 2 on Thursday nights. We provide continual financial support for DASA via our annual Mud Volleyball Tournament\, and we support them by volunteering our time and manpower at various events and activities throughout the year. www.dasasports.org \n\n\n\nSaturday\, June 13\, 2026 beginning at 9:00 a.m.10100 Ecology Drive\, St. Peters\, MO 63376 \n\n\n\nREGISTER REQUIRED.  Please see the Mud Volleyball page for full details.
URL:https://ccfrcommunity.com/event/mud-volleyball/
LOCATION:CCFR Training Center\, 10100 Mid Rivers Mall Drive\, St. Peters\, MO\, 63376
END:VEVENT
BEGIN:VEVENT
DTSTART;TZID=America/Chicago:20260828T180000
DTEND;TZID=America/Chicago:20260828T220000
DTSTAMP:20260423T053239
CREATED:20250606T223708Z
LAST-MODIFIED:20260311T143304Z
UID:7921-1787940000-1787954400@ccfrcommunity.com
SUMMARY:Par 3 Night Golf Tournament
DESCRIPTION:Join us for our second annual Par 3 Night Golf Tournament! \n\n\n\nFor more information\, visit the Night Golf Tournament page
URL:https://ccfrcommunity.com/event/par-3-night-golf-tournament/
LOCATION:Pheasant Run Golf Course\, Sportspark Dr\, O'Fallon\, Missouri\, 63368
END:VEVENT
END:VCALENDAR