BEGIN:VCALENDAR
VERSION:2.0
PRODID:-//CCFR Community - ECPv6.15.20//NONSGML v1.0//EN
CALSCALE:GREGORIAN
METHOD:PUBLISH
X-WR-CALNAME:CCFR Community
X-ORIGINAL-URL:https://ccfrcommunity.com
X-WR-CALDESC:Events for CCFR Community
REFRESH-INTERVAL;VALUE=DURATION:PT1H
X-Robots-Tag:noindex
X-PUBLISHED-TTL:PT1H
BEGIN:VTIMEZONE
TZID:America/Chicago
BEGIN:DAYLIGHT
TZOFFSETFROM:-0600
TZOFFSETTO:-0500
TZNAME:CDT
DTSTART:20240310T080000
END:DAYLIGHT
BEGIN:STANDARD
TZOFFSETFROM:-0500
TZOFFSETTO:-0600
TZNAME:CST
DTSTART:20241103T070000
END:STANDARD
BEGIN:DAYLIGHT
TZOFFSETFROM:-0600
TZOFFSETTO:-0500
TZNAME:CDT
DTSTART:20250309T080000
END:DAYLIGHT
BEGIN:STANDARD
TZOFFSETFROM:-0500
TZOFFSETTO:-0600
TZNAME:CST
DTSTART:20251102T070000
END:STANDARD
BEGIN:DAYLIGHT
TZOFFSETFROM:-0600
TZOFFSETTO:-0500
TZNAME:CDT
DTSTART:20260308T080000
END:DAYLIGHT
BEGIN:STANDARD
TZOFFSETFROM:-0500
TZOFFSETTO:-0600
TZNAME:CST
DTSTART:20261101T070000
END:STANDARD
END:VTIMEZONE
BEGIN:VEVENT
DTSTART;TZID=America/Chicago:20250816T080000
DTEND;TZID=America/Chicago:20250816T140000
DTSTAMP:20260423T060727
CREATED:20250505T231159Z
LAST-MODIFIED:20250721T192221Z
UID:1002-1755331200-1755352800@ccfrcommunity.com
SUMMARY:Fishing with First Responders
DESCRIPTION:Kids Fishing is a FREE fishing derby designed exclusively for children from ages 0 to 15\, providing them with a unique opportunity to experience the joys of fishing in a safe and supportive environment alongside one of our firefighters! \n\n\n\nThis exciting event is casting the net to bring smiles to young faces and create unforgettable memories! \n\n\n\nPre-REGISTRATION and RESidency inside the boundaries of Central County Fire’s district are REQUIRED \n\n\n\nFor full details\, visit the Kids Fishing with Firefighters page.
URL:https://ccfrcommunity.com/event/fishing-with-firefighters/
LOCATION:MO
END:VEVENT
BEGIN:VEVENT
DTSTART;TZID=America/Chicago:20250621T080000
DTEND;TZID=America/Chicago:20250621T170000
DTSTAMP:20260423T060727
CREATED:20250505T233611Z
LAST-MODIFIED:20250625T205007Z
UID:1024-1750492800-1750525200@ccfrcommunity.com
SUMMARY:Big Kahuna Bartender Challenge
DESCRIPTION:The Big Kahuna Bartender Challenge is a fundraiser to support Community Living. Serving over 1\,100 children\, adults\, and their families\, Community Living is a local non-profit that works to enrich the lives of people with disabilities so they can achieve their highest potential. \n\n\n\nFor more information\, visit the Big Kahuna Bartender Challenge page. \n\n\n\nLearn more about Community Living here: https://www.communitylivingmo.org/
URL:https://ccfrcommunity.com/event/big-kahuna-bartender-challenge/
LOCATION:MO
END:VEVENT
BEGIN:VEVENT
DTSTART;TZID=America/Chicago:20250517T110000
DTEND;TZID=America/Chicago:20250517T140000
DTSTAMP:20260423T060727
CREATED:20250505T232855Z
LAST-MODIFIED:20250605T181900Z
UID:1018-1747479600-1747490400@ccfrcommunity.com
SUMMARY:Veterans Appreciation Lunch
DESCRIPTION:We’re proud of our veterans\, and we want to say “thank you” to the veterans in our fire district by providing a lunch in your honor. \n\n\n\nRegistration is required so that we know how much food we need.  You’ll be asked to donate a minimum of $1\, that we will return to you on your arrival. \n\n\n\nFor complete details\, please see the Veterans Appreciation BBQ page.
URL:https://ccfrcommunity.com/event/veterans-appreciation-lunch/
LOCATION:CCFR Station #1\, 1 Timberbrook Dr.\, St Peters\, MO\, 63376
END:VEVENT
END:VCALENDAR