BEGIN:VCALENDAR
VERSION:2.0
PRODID:-//CCFR Community - ECPv6.15.20//NONSGML v1.0//EN
CALSCALE:GREGORIAN
METHOD:PUBLISH
X-WR-CALNAME:CCFR Community
X-ORIGINAL-URL:https://ccfrcommunity.com
X-WR-CALDESC:Events for CCFR Community
REFRESH-INTERVAL;VALUE=DURATION:PT1H
X-Robots-Tag:noindex
X-PUBLISHED-TTL:PT1H
BEGIN:VTIMEZONE
TZID:America/Chicago
BEGIN:DAYLIGHT
TZOFFSETFROM:-0600
TZOFFSETTO:-0500
TZNAME:CDT
DTSTART:20250309T080000
END:DAYLIGHT
BEGIN:STANDARD
TZOFFSETFROM:-0500
TZOFFSETTO:-0600
TZNAME:CST
DTSTART:20251102T070000
END:STANDARD
BEGIN:DAYLIGHT
TZOFFSETFROM:-0600
TZOFFSETTO:-0500
TZNAME:CDT
DTSTART:20260308T080000
END:DAYLIGHT
BEGIN:STANDARD
TZOFFSETFROM:-0500
TZOFFSETTO:-0600
TZNAME:CST
DTSTART:20261101T070000
END:STANDARD
BEGIN:DAYLIGHT
TZOFFSETFROM:-0600
TZOFFSETTO:-0500
TZNAME:CDT
DTSTART:20270314T080000
END:DAYLIGHT
BEGIN:STANDARD
TZOFFSETFROM:-0500
TZOFFSETTO:-0600
TZNAME:CST
DTSTART:20271107T070000
END:STANDARD
END:VTIMEZONE
BEGIN:VEVENT
DTSTART;TZID=America/Chicago:20260327T180000
DTEND;TZID=America/Chicago:20260327T220000
DTSTAMP:20260422T174125
CREATED:20250607T154352Z
LAST-MODIFIED:20260311T151314Z
UID:7956-1774634400-1774648800@ccfrcommunity.com
SUMMARY:Mouse Races
DESCRIPTION:Price includes Admission & Open Bar with Draft Beer\, Wine\, Rail Alcohol (No outside alcohol) \n\n\n\nFood can be brought in or purchased from the bar. \n\n\n\n50/50 and Raffles \n\n\n\n115 McMenamy Rd.\, St. Peters\, MO 63376 \n\n\n\nDoors open at 6:00PM\, Racing at 7PM \n\n\n\n\n\nRegister Here
URL:https://ccfrcommunity.com/event/mouse-races/
LOCATION:PFEM Hall & Banquet Center\, 115 McMenamy Rd\, St. Peters\, MO\, 63376\, United States
END:VEVENT
END:VCALENDAR