BEGIN:VCALENDAR
VERSION:2.0
PRODID:-//CCFR Community - ECPv6.15.20//NONSGML v1.0//EN
CALSCALE:GREGORIAN
METHOD:PUBLISH
X-ORIGINAL-URL:https://ccfrcommunity.com
X-WR-CALDESC:Events for CCFR Community
REFRESH-INTERVAL;VALUE=DURATION:PT1H
X-Robots-Tag:noindex
X-PUBLISHED-TTL:PT1H
BEGIN:VTIMEZONE
TZID:America/Chicago
BEGIN:DAYLIGHT
TZOFFSETFROM:-0600
TZOFFSETTO:-0500
TZNAME:CDT
DTSTART:20240310T080000
END:DAYLIGHT
BEGIN:STANDARD
TZOFFSETFROM:-0500
TZOFFSETTO:-0600
TZNAME:CST
DTSTART:20241103T070000
END:STANDARD
BEGIN:DAYLIGHT
TZOFFSETFROM:-0600
TZOFFSETTO:-0500
TZNAME:CDT
DTSTART:20250309T080000
END:DAYLIGHT
BEGIN:STANDARD
TZOFFSETFROM:-0500
TZOFFSETTO:-0600
TZNAME:CST
DTSTART:20251102T070000
END:STANDARD
BEGIN:DAYLIGHT
TZOFFSETFROM:-0600
TZOFFSETTO:-0500
TZNAME:CDT
DTSTART:20260308T080000
END:DAYLIGHT
BEGIN:STANDARD
TZOFFSETFROM:-0500
TZOFFSETTO:-0600
TZNAME:CST
DTSTART:20261101T070000
END:STANDARD
END:VTIMEZONE
BEGIN:VEVENT
DTSTART;TZID=America/Chicago:20251201T080000
DTEND;TZID=America/Chicago:20251224T170000
DTSTAMP:20260423T041334
CREATED:20250505T233951Z
LAST-MODIFIED:20250610T164928Z
UID:1026-1764576000-1766595600@ccfrcommunity.com
SUMMARY:Toy Drive
DESCRIPTION:Every Christmas\, we support area children by serving as a collection point for community donations of Christmas presents. In addition to the Toys-for-Tats event where we collect toys\, we accept new\, unwrapped toys at all of our Stations during the month of December. \n\n\n\nToys are donated to the Foster Adoption Support Team (FAST). Fast supports over 300 foster/adoptive children throughout St. Charles county. https://www.fosteradoptscc.org/
URL:https://ccfrcommunity.com/event/toy-drive/
LOCATION:MO
END:VEVENT
END:VCALENDAR